BEGIN:VCALENDAR
VERSION:2.0
PRODID:-//Your Company//Calendar Export//EN
CALSCALE:GREGORIAN
BEGIN:VEVENT
UID:event-6480@myharbourclub.com
DTSTAMP:20260423T104751Z
DTSTART:20260521T160000Z
DTEND:20260521T173000Z
SUMMARY:Sip\, Script\, &amp\; Socialize
DESCRIPTION:Ladies Luncheon Spend your afternoon at our Sip\, Script &amp\; Socialize\, a ladies’ luncheon with a hands-on calligraphy experience. Enjoy a guided calligraphy lesson led by Gibbs Elliott Calligraphy while...
LOCATION:22 WestEdge Street\, 7th Floor\, Charleston SC\, 29403
END:VEVENT
END:VCALENDAR
